BEGIN:VCALENDAR
VERSION:2.0
PRODID:Fort Bend County, TX Calendar Creator
METHOD:PUBLISH
BEGIN:VEVENT
DTSTAMP:20250703T105912
DTSTART:20250718T090000
DTEND:20250719T120000
SUMMARY:Food Truck Fridays in the Park - Four Corners CC. & Park
DESCRIPTION:<h4 class="style-heading4 text-align-center">In celebration of National Parks &amp; Recreation Month</h4>

<h3 class="style-heading3 text-align-center">FBC Parks &amp; Recreation Presents</h3>

<h
CLASS:PUBLIC
END:VEVENT
END:VCALENDAR
